BEGIN:VCALENDAR
VERSION:2.0
PRODID:-//Ziber2013/
CALSCALE:GREGORIAN
BEGIN:VEVENT
UID:238813@https://www.detweewegen.nl
DTSTART:20260704T000000
DTEND:20260816T235959
SUMMARY:Zomervakantie
DESCRIPTION:
LOCATION:Basisschool de Tweewegen\, Populierenlaan 27\, 1766 JD Wieringerwaard
X-MICROSOFT-CDO-ALLDAYEVENT:TRUE
ATTACH;FMTTYPE=image/jpeg:/content/monsterGallery/summervacation.png?width=1600&height=1200
SEQUENCE:0
DTSTAMP:20260422T165442
END:VEVENT
END:VCALENDAR
